BEGIN:VCALENDAR
VERSION:2.0
PRODID:icalendar-ruby
CALSCALE:GREGORIAN
METHOD:PUBLISH
BEGIN:VEVENT
DTSTAMP:20260421T105554Z
UID:10-497613@knoxvilleunited.tithelysetup2.com
DTSTART:20260827T000000Z
DTEND:20260827T010000Z
CLASS:PUBLIC
CREATED:20260420T202516
DESCRIPTION:
LAST-MODIFIED:20260420T202516
LOCATION:
SUMMARY:Chancel Choir Practice
URL;VALUE=URI:https://knoxvilleumc.org/events/chancel-choir-practice/2026-0
 8-26
END:VEVENT
END:VCALENDAR
