BEGIN:VCALENDAR
VERSION:2.0
PRODID:icalendar-ruby
CALSCALE:GREGORIAN
METHOD:PUBLISH
BEGIN:VEVENT
DTSTAMP:20260421T121959Z
UID:10-497614@knoxvilleunited.tithelysetup2.com
DTSTART:20260903T000000Z
DTEND:20260903T010000Z
CLASS:PUBLIC
CREATED:20260420T202516
DESCRIPTION:
LAST-MODIFIED:20260420T202516
LOCATION:
SUMMARY:Chancel Choir Practice
URL;VALUE=URI:https://knoxvilleumc.org/events/chancel-choir-practice/2026-0
 9-02
END:VEVENT
END:VCALENDAR
