BEGIN:VCALENDAR
VERSION:2.0
PRODID:icalendar-ruby
CALSCALE:GREGORIAN
METHOD:PUBLISH
BEGIN:VEVENT
DTSTAMP:20260421T134903Z
UID:10-498182@knoxvilleunited.tithelysetup2.com
DTSTART:20260910T000000Z
DTEND:20260910T010000Z
CLASS:PUBLIC
CREATED:20260421T073254
DESCRIPTION:
LAST-MODIFIED:20260421T073254
LOCATION:
SUMMARY:Chancel Choir Practice
URL;VALUE=URI:https://knoxvilleumc.org/events/chancel-choir-practice/2026-0
 9-09
END:VEVENT
END:VCALENDAR
