BEGIN:VCALENDAR
VERSION:2.0
PRODID:icalendar-ruby
CALSCALE:GREGORIAN
METHOD:PUBLISH
BEGIN:VEVENT
DTSTAMP:20260421T151638Z
UID:10-498750@knoxvilleunited.tithelysetup2.com
DTSTART:20260917T000000Z
DTEND:20260917T010000Z
CLASS:PUBLIC
CREATED:20260421T100832
DESCRIPTION:
LAST-MODIFIED:20260421T100832
LOCATION:
SUMMARY:Chancel Choir Practice
URL;VALUE=URI:https://knoxvilleumc.org/events/chancel-choir-practice/2026-0
 9-16
END:VEVENT
END:VCALENDAR
