BEGIN:VCALENDAR
VERSION:2.0
PRODID:icalendar-ruby
CALSCALE:GREGORIAN
METHOD:PUBLISH
BEGIN:VEVENT
DTSTAMP:20260421T180619Z
UID:10-499319@knoxvilleunited.tithelysetup2.com
DTSTART:20261001T000000Z
DTEND:20261001T010000Z
CLASS:PUBLIC
CREATED:20260421T124843
DESCRIPTION:
LAST-MODIFIED:20260421T124843
LOCATION:
SUMMARY:Chancel Choir Practice
URL;VALUE=URI:https://knoxvilleumc.org/events/chancel-choir-practice/2026-0
 9-30
END:VEVENT
END:VCALENDAR
