BEGIN:VCALENDAR
VERSION:2.0
PRODID:icalendar-ruby
CALSCALE:GREGORIAN
METHOD:PUBLISH
BEGIN:VEVENT
DTSTAMP:20260421T194612Z
UID:10-499320@knoxvilleunited.tithelysetup2.com
DTSTART:20261008T000000Z
DTEND:20261008T010000Z
CLASS:PUBLIC
CREATED:20260421T124843
DESCRIPTION:
LAST-MODIFIED:20260421T124843
LOCATION:
SUMMARY:Chancel Choir Practice
URL;VALUE=URI:https://knoxvilleumc.org/events/chancel-choir-practice/2026-1
 0-07
END:VEVENT
END:VCALENDAR
