BEGIN:VCALENDAR
VERSION:2.0
PRODID:icalendar-ruby
CALSCALE:GREGORIAN
METHOD:PUBLISH
BEGIN:VEVENT
DTSTAMP:20260420T091742Z
UID:165-448336@knoxvilleunited.tithelysetup2.com
DTSTART:20260416T230000Z
DTEND:20260417T000000Z
CLASS:PUBLIC
CREATED:20260406T112029
DESCRIPTION:
LAST-MODIFIED:20260406T112029
LOCATION:
SUMMARY:Confirmation Class
URL;VALUE=URI:https://knoxvilleumc.org/events/confirmation-class--165/2026-
 04-16
END:VEVENT
END:VCALENDAR
