BEGIN:VCALENDAR
VERSION:2.0
PRODID:icalendar-ruby
CALSCALE:GREGORIAN
METHOD:PUBLISH
BEGIN:VEVENT
DTSTAMP:20260423T183435Z
UID:154-505880@knoxvilleunited.tithelysetup2.com
DTSTART:20261008T140000Z
DTEND:20261008T160000Z
CLASS:PUBLIC
CREATED:20260423T104410
DESCRIPTION:
LAST-MODIFIED:20260423T104410
LOCATION:
SUMMARY:Food Pantry
URL;VALUE=URI:https://knoxvilleumc.org/events/food-pantry--154/2026-10-08
END:VEVENT
END:VCALENDAR
