BEGIN:VCALENDAR
VERSION:2.0
PRODID:icalendar-ruby
CALSCALE:GREGORIAN
METHOD:PUBLISH
BEGIN:VEVENT
DTSTAMP:20260424T002242Z
UID:154-507033@knoxvilleunited.tithelysetup2.com
DTSTART:20261105T150000Z
DTEND:20261105T170000Z
CLASS:PUBLIC
CREATED:20260423T163544
DESCRIPTION:
LAST-MODIFIED:20260423T163544
LOCATION:
SUMMARY:Food Pantry
URL;VALUE=URI:https://knoxvilleumc.org/events/food-pantry--154/2026-11-05
END:VEVENT
END:VCALENDAR
