BEGIN:VCALENDAR
VERSION:2.0
PRODID:icalendar-ruby
CALSCALE:GREGORIAN
METHOD:PUBLISH
BEGIN:VEVENT
DTSTAMP:20260422T195303Z
UID:153-502991@knoxvilleunited.tithelysetup2.com
DTSTART:20260924T130000Z
DTEND:20260924T150000Z
CLASS:PUBLIC
CREATED:20260422T134009
DESCRIPTION:
LAST-MODIFIED:20260422T134009
LOCATION:
SUMMARY:T.O.P.S.
URL;VALUE=URI:https://knoxvilleumc.org/events/t-o-p-s--153/2026-09-24
END:VEVENT
END:VCALENDAR
