BEGIN:VCALENDAR
VERSION:2.0
PRODID:icalendar-ruby
CALSCALE:GREGORIAN
METHOD:PUBLISH
BEGIN:VEVENT
DTSTAMP:20260422T221414Z
UID:153-503561@knoxvilleunited.tithelysetup2.com
DTSTART:20261008T130000Z
DTEND:20261008T150000Z
CLASS:PUBLIC
CREATED:20260422T163544
DESCRIPTION:
LAST-MODIFIED:20260422T163544
LOCATION:
SUMMARY:T.O.P.S.
URL;VALUE=URI:https://knoxvilleumc.org/events/t-o-p-s--153/2026-10-08
END:VEVENT
END:VCALENDAR
