BEGIN:VCALENDAR
VERSION:2.0
PRODID:icalendar-ruby
CALSCALE:GREGORIAN
METHOD:PUBLISH
BEGIN:VEVENT
DTSTAMP:20260423T011649Z
UID:153-504133@knoxvilleunited.tithelysetup2.com
DTSTART:20261022T130000Z
DTEND:20261022T150000Z
CLASS:PUBLIC
CREATED:20260422T192700
DESCRIPTION:
LAST-MODIFIED:20260422T192700
LOCATION:
SUMMARY:T.O.P.S.
URL;VALUE=URI:https://knoxvilleumc.org/events/t-o-p-s--153/2026-10-22
END:VEVENT
END:VCALENDAR
